BEGIN:VCALENDAR
VERSION:2.0
PRODID:-//imf.saintvincentseminary.edu//eCatholic//EN
X-WR-TIMEZONE:LocalTZ
BEGIN:VTIMEZONE
TZID:LocalTZ
X-LIC-LOCATION:LocalTZ
BEGIN:DAYLIGHT
TZOFFSETFROM:-0500
TZOFFSETTO:-0400
TZNAME:LocalTZ
DTSTART:19700308T020000
RRULE:FREQ=YEARLY;BYMONTH=3;BYDAY=2SU
END:DAYLIGHT
BEGIN:STANDARD
TZOFFSETFROM:-0400
TZOFFSETTO:-0500
TZNAME:LocalTZ
DTSTART:19701101T020000
RRULE:FREQ=YEARLY;BYMONTH=11;BYDAY=1SU
END:STANDARD
END:VTIMEZONE
BEGIN:VEVENT
UID:2931094@imf.saintvincentseminary.edu
DTSTAMP:20260421T140650Z
DTSTART;VALUE=DATE:20260508
DTEND;VALUE=DATE:20260509
SUMMARY:Commencement
END:VEVENT
BEGIN:VEVENT
UID:2950601@imf.saintvincentseminary.edu
DTSTAMP:20260421T140650Z
DTSTART;VALUE=DATE:20260501
DTEND;VALUE=DATE:20260502
SUMMARY:Last Day of Classes
END:VEVENT
BEGIN:VEVENT
UID:2950607@imf.saintvincentseminary.edu
DTSTAMP:20260421T140650Z
DTSTART;VALUE=DATE:20260502
DTEND;VALUE=DATE:20260504
SUMMARY:Reading Days
END:VEVENT
BEGIN:VEVENT
UID:2950611@imf.saintvincentseminary.edu
DTSTAMP:20260421T140650Z
DTSTART;VALUE=DATE:20260504
DTEND;VALUE=DATE:20260508
SUMMARY:Final Exam Week
END:VEVENT
BEGIN:VEVENT
UID:2950620@imf.saintvincentseminary.edu
DTSTAMP:20260421T140650Z
DTSTART;VALUE=DATE:20260506
DTEND;VALUE=DATE:20260507
SUMMARY:Graduating Students' Grades due at Noon
END:VEVENT
BEGIN:VEVENT
UID:2950622@imf.saintvincentseminary.edu
DTSTAMP:20260421T140650Z
DTSTART;VALUE=DATE:20260512
DTEND;VALUE=DATE:20260513
SUMMARY:Final Spring Grades Due at Noon
END:VEVENT
END:VCALENDAR
